BEGIN:VCALENDAR
VERSION:2.0
PRODID:-//wp-events-plugin.com//7.1.7//EN
TZID:Europe/Paris
X-WR-TIMEZONE:Europe/Paris
BEGIN:VEVENT
UID:0-699@limonest.fr
DTSTART;TZID=Europe/Paris:20260607T080000
DTEND;TZID=Europe/Paris:20260607T160000
DTSTAMP:20260407T144050Z
URL:https://www.limonest.fr/evenements/vide-grenier-par-lape-et-apel-aux-l
 azaristes-la-salle/
SUMMARY:Vide Grenier par l'APE et APEL Aux Lazaristes La Salle
DESCRIPTION:Relais d'information - Associations APE et APEL aux Lazaristes 
 La Salle\, Site Sandar\nLes associations des parents d'élèves (APEL et A
 PE) Aux Lazaristes La Salle Sandar organisent leur premier vide-grenier\, 
 le dimanche 07 Juin 2026\, de 8h à 16h dans l'enceinte de l'établissemen
 t à Limonest. Réservé aux particuliers et professionnels / Nombre de pl
 aces limitées. Installation des exposants de 6h00 à 8h00 / Ouverture au 
 public de 8h00 à 16h00. Animations\, buvette et restauration sur place av
 ec la présence d'un Food truck. \nNous vous attendons nombreux pour cette
  belle journée !\nInscription et informations supplémentaires sur Helloa
 sso : https://www.helloasso.com/associations/apel-lazaristes-lasalle-limon
 est/evenements/vide-greniers
ATTACH;FMTTYPE=image/jpeg:https://www.limonest.fr/app/uploads/1/2026/04/Vi
 de-grenier-aux-Lazaristes-La-Salle-2026.png
CATEGORIES:Evènement associatif
LOCATION:France
X-APPLE-STRUCTURED-LOCATION;VALUE=URI;X-ADDRESS=France;X-APPLE-RADIUS=100;X
 -TITLE=:geo:0,0
END:VEVENT
BEGIN:VTIMEZONE
TZID:Europe/Paris
X-LIC-LOCATION:Europe/Paris
BEGIN:DAYLIGHT
DTSTART:20260329T030000
TZOFFSETFROM:+0100
TZOFFSETTO:+0200
TZNAME:CEST
END:DAYLIGHT
END:VTIMEZONE
END:VCALENDAR