BEGIN:VCALENDAR
VERSION:2.0
PRODID:-//wp-events-plugin.com//7.1.7//EN
TZID:Europe/Paris
X-WR-TIMEZONE:Europe/Paris
BEGIN:VEVENT
UID:0-684@limonest.fr
DTSTART;TZID=Europe/Paris;VALUE=DATE:20260425
DTEND;TZID=Europe/Paris;VALUE=DATE:20260426
DTSTAMP:20260401T124039Z
URL:https://www.limonest.fr/evenements/tournoi-multi-raquette-par-le-tenni
 s-padel-club-du-bois-dars/
SUMMARY:Tournoi Multi-Raquette par le Tennis &amp\; Padel Club du Bois d'Ar
 s
DESCRIPTION:Relais d'informations - Associations Tennis &amp\; Padel Club d
 u Bois d'Ars Limonest\n" Le Tennis et Padel Club du Bois d’Ars vous prop
 ose un tournoi multi-raquette convivial ouvert à tous. Formez une équipe
  de 2 joueurs et venez vous affronter en padel\, tennis et pickleball dans
  une ambiance sportive et familiale. Que vous soyez adhérent du club ou s
 imple curieux\, l’objectif est avant tout de partager un bon moment. Pla
 ces limitées\, inscrivez-vous dès maintenant ! 🎾\nDétails pratiques 
 :\nDate : Samedi 25 avril 2026\nLieu : Tennis &amp\; Padel Club du Bois d
 ’Ars\nHoraires : Début des matchs à 10h\nDisciplines : Tennis\, Padel\
 , Pickleball\nFormat : Équipes de 2 joueurs (rotations sur les 3 discipli
 nes)\nTarif : 20€ par personne\nInscriptions Via HelloAsso : https://www
 .helloasso.com/associations/tennis-et-padel-club-du-bois-d-ars/evenements/
 inscription-tournoi-multi-raquette-bois-d-ars
ATTACH;FMTTYPE=image/jpeg:https://www.limonest.fr/app/uploads/1/2026/03/To
 urnoi-Multi-raquette-miniature-site.png
CATEGORIES:Evènement associatif
LOCATION:1038 route du Bois d'Ars 69760 Limonest\, France
X-APPLE-STRUCTURED-LOCATION;VALUE=URI;X-ADDRESS=1038 route du Bois d'Ars 69
 760 Limonest\, France;X-APPLE-RADIUS=100;X-TITLE=:geo:0,0
END:VEVENT
BEGIN:VTIMEZONE
TZID:Europe/Paris
X-LIC-LOCATION:Europe/Paris
BEGIN:DAYLIGHT
DTSTART:20260329T030000
TZOFFSETFROM:+0100
TZOFFSETTO:+0200
TZNAME:CEST
END:DAYLIGHT
END:VTIMEZONE
END:VCALENDAR