BEGIN:VCALENDAR
VERSION:2.0
PRODID:-//wp-events-plugin.com//7.1.7//EN
TZID:Europe/Paris
X-WR-TIMEZONE:Europe/Paris
BEGIN:VEVENT
UID:0-500@limonest.fr
DTSTART;TZID=Europe/Paris:20241011T200000
DTEND;TZID=Europe/Paris:20241011T211500
DTSTAMP:20240927T100715Z
URL:https://www.limonest.fr/evenements/sunshine-in-ohio-when-youre-smiling
 /
SUMMARY:Sunshine in Ohio | When You're Smiling
DESCRIPTION:Voyage à travers des U.S.A. imaginaires\, peuplés de cowboys 
 qui galopent au son du bluegrass\, de bluesmen\, de jazzmen\, de cactus et
  d’églises où l’on chante du gospel.\nQuand la danse se fait musique
  et la musique se fait danse avec l’âme de Django Reinhardt pour atmosp
 hère.
CATEGORIES:Evènement municipal,Saison culturelle
LOCATION:Agora, pôle culturel de Limonest\, 213 chemin de la Sablière 697
 60 Limonest\, France
X-APPLE-STRUCTURED-LOCATION;VALUE=URI;X-ADDRESS=213 chemin de la Sablière 
 69760 Limonest\, France;X-APPLE-RADIUS=100;X-TITLE=Agora, pôle culturel d
 e Limonest:geo:0,0
END:VEVENT
BEGIN:VTIMEZONE
TZID:Europe/Paris
X-LIC-LOCATION:Europe/Paris
BEGIN:DAYLIGHT
DTSTART:20240331T030000
TZOFFSETFROM:+0100
TZOFFSETTO:+0200
TZNAME:CEST
END:DAYLIGHT
END:VTIMEZONE
END:VCALENDAR