BEGIN:VCALENDAR
VERSION:2.0
PRODID:-//wp-events-plugin.com//7.1.7//EN
TZID:Europe/Paris
X-WR-TIMEZONE:Europe/Paris
BEGIN:VEVENT
UID:0-484@limonest.fr
DTSTART;TZID=Europe/Paris:20240629T093000
DTEND;TZID=Europe/Paris:20240629T133000
DTSTAMP:20240612T074626Z
URL:https://www.limonest.fr/evenements/portes-ouvertes-tennis-padel-club/
SUMMARY:Portes ouvertes Tennis &amp\; Padel Club
DESCRIPTION:𝐑𝐄𝐋𝐀𝐈𝐒 𝐃'𝐈𝐍𝐅𝐎𝐑𝐌𝐀𝐓
 𝐈𝐎𝐍 - 𝐕𝐈𝐄 𝐀𝐒𝐒𝐎𝐂𝐈𝐀𝐓𝐈𝐕𝐄\n
  Le Tennis &amp\; Padel Club du Bois d'Ars organise une demi-journée port
 es ouvertes au club !\nAu programme :\n- Essais tennis / padel\n- Pré-ins
 criptions enfants / adultes\n- Animations\n- Petite restauration
ATTACH;FMTTYPE=image/jpeg:https://www.limonest.fr/app/uploads/2024/06/Copi
 e-de-format-actualites-site-web-4.png
CATEGORIES:Evènement associatif
END:VEVENT
BEGIN:VTIMEZONE
TZID:Europe/Paris
X-LIC-LOCATION:Europe/Paris
BEGIN:DAYLIGHT
DTSTART:20240331T030000
TZOFFSETFROM:+0100
TZOFFSETTO:+0200
TZNAME:CEST
END:DAYLIGHT
END:VTIMEZONE
END:VCALENDAR