BEGIN:VCALENDAR
VERSION:2.0
PRODID:-//wp-events-plugin.com//7.1.7//EN
TZID:Europe/Paris
X-WR-TIMEZONE:Europe/Paris
BEGIN:VEVENT
UID:0-478@limonest.fr
DTSTART;TZID=Europe/Paris:20240529T160000
DTEND;TZID=Europe/Paris:20240529T190000
DTSTAMP:20240527T073335Z
URL:https://www.limonest.fr/evenements/portes-ouvertes-a-sandar/
SUMMARY:Portes ouvertes à Sandar
DESCRIPTION:👉 𝑹𝑬𝑳𝑨𝑰𝑺 𝑫'𝑰𝑵𝑭𝑶𝑹𝑴𝑨
 𝑻𝑰𝑶𝑵 👈 𝑷𝑶𝑹𝑻𝑬𝑺 𝑶𝑼𝑽𝑬𝑹𝑻
 𝑬𝑺 𝑨 𝑺𝑨𝑵𝑫𝑨𝑹\n𝗠𝗲𝗿𝗰𝗿𝗲𝗱𝗶 
 𝟮𝟵 𝗺𝗮𝗶 𝗱𝗲 𝟭𝟲𝗵 à 𝟭𝟵𝗵\nLes futurs é
 tudiants pourront à cette occasion visiter l’établissement et rencontr
 er notre équipe pédagogique de 16h à 19h\nPetite nouveauté\, les écha
 nges seront également possible en webinaire pour ceux ne pouvant pas se d
 éplacer (sur inscription)\nINSCRIPTION ICI
ATTACH;FMTTYPE=image/jpeg:https://www.limonest.fr/app/uploads/2024/05/visu
 el-panneau.png
END:VEVENT
BEGIN:VTIMEZONE
TZID:Europe/Paris
X-LIC-LOCATION:Europe/Paris
BEGIN:DAYLIGHT
DTSTART:20240331T030000
TZOFFSETFROM:+0100
TZOFFSETTO:+0200
TZNAME:CEST
END:DAYLIGHT
END:VTIMEZONE
END:VCALENDAR