BEGIN:VCALENDAR
VERSION:2.0
PRODID:-//wp-events-plugin.com//7.1.7//EN
TZID:Europe/Paris
X-WR-TIMEZONE:Europe/Paris
BEGIN:VEVENT
UID:0-652@limonest.fr
DTSTART;TZID=Europe/Paris:20260602T140000
DTEND;TZID=Europe/Paris:20260602T170000
DTSTAMP:20260108T163435Z
URL:https://www.limonest.fr/evenements/permanence-metropole-aidante-5/
SUMMARY:Permanence : Métropole Aidante
DESCRIPTION:LES PERMANENCES DE "MÉTROPOLE AIDANTE" se font sur rendez-vous
  uniquement : \n04 72 69 15 28\nCe dispositif propose des permanences\, en
  alternance entre Limonest et Dardilly\, pour informer\, orienter et accom
 pagner les aidants quelle que soit la situation de l’aidé (maladie\, ha
 ndicap ou âge).  De 14h à 17h - Salle des associations\, Mairie de Lim
 onest\nSuivez toute l’actu sur www.metropole-aidante.fr/itinerances/
ATTACH;FMTTYPE=image/jpeg:https://www.limonest.fr/app/uploads/2025/09/logo
 -Metropole-aidante.jpg
CATEGORIES:Permanences
LOCATION:Hôtel de Ville\, 225 avenue Général de Gaulle 69760 Limonest\, 
 France
X-APPLE-STRUCTURED-LOCATION;VALUE=URI;X-ADDRESS=225 avenue Général de Gau
 lle 69760 Limonest\, France;X-APPLE-RADIUS=100;X-TITLE=Hôtel de Ville:geo
 :0,0
END:VEVENT
BEGIN:VTIMEZONE
TZID:Europe/Paris
X-LIC-LOCATION:Europe/Paris
BEGIN:DAYLIGHT
DTSTART:20260329T030000
TZOFFSETFROM:+0100
TZOFFSETTO:+0200
TZNAME:CEST
END:DAYLIGHT
END:VTIMEZONE
END:VCALENDAR