BEGIN:VCALENDAR
VERSION:2.0
PRODID:-//wp-events-plugin.com//7.1.7//EN
TZID:Europe/Paris
X-WR-TIMEZONE:Europe/Paris
BEGIN:VEVENT
UID:0-508@limonest.fr
DTSTART;TZID=Europe/Paris:20241025T190000
DTEND;TZID=Europe/Paris:20241025T220000
DTSTAMP:20241016T141231Z
URL:https://www.limonest.fr/evenements/montee-chronometree-du-mont-verdun-
 2/
SUMMARY:Montée Chronométrée du Mont Verdun #2
DESCRIPTION:Préparez-vous à l'ouverture des inscriptions pour la 2ème é
 dition de la MCMV (Montée Chronométrée du Mont Verdun).Une course en mo
 de chrono côté - contre-la-montre individuel avec 2 montées simultanée
 s entre Limonest et le Mont Verdun.Un format explosif et festif !On balise
 \, on affine le parcours\, on prévoit quelques surprises\, bref\, on vous
  dit très vite quand vous pourrez prendre le dossard pour cette deuxième
  édition.C'était top\, ce sera magique ! On peut juste vous dire que ce
 tte année\, le format sera en mode : - Deux montées simultanées (Route 
 et Trail) pour les solos - une formule en duo (avec 1 montée par particip
 ant).\nEn attendant\, réservez votre soirée du 25 octobre&nbsp\;! Ca va 
 chauffer !Une course organisée par Terre de running Limonest\,  en part
 enariat avec la ville de Limonest\nBilletterie Montée Chronométrée du M
 ont Verdun #2
ATTACH;FMTTYPE=image/jpeg:https://www.limonest.fr/app/uploads/2024/10/Flye
 r-MCMV-2024.png
CATEGORIES:Evènement associatif,Evènement municipal
LOCATION:Montée du mont verdun\, 69760 Limonest\, France
X-APPLE-STRUCTURED-LOCATION;VALUE=URI;X-ADDRESS=69760 Limonest\, France;X-A
 PPLE-RADIUS=100;X-TITLE=Montée du mont verdun:geo:0,0
END:VEVENT
BEGIN:VTIMEZONE
TZID:Europe/Paris
X-LIC-LOCATION:Europe/Paris
BEGIN:DAYLIGHT
DTSTART:20240331T030000
TZOFFSETFROM:+0100
TZOFFSETTO:+0200
TZNAME:CEST
END:DAYLIGHT
END:VTIMEZONE
END:VCALENDAR