BEGIN:VCALENDAR
VERSION:2.0
PRODID:-//wp-events-plugin.com//7.1.7//EN
TZID:Europe/Paris
X-WR-TIMEZONE:Europe/Paris
BEGIN:VEVENT
UID:0-480@limonest.fr
DTSTART;TZID=Europe/Paris:20240601T100000
DTEND;TZID=Europe/Paris:20240601T120000
DTSTAMP:20240527T095009Z
URL:https://www.limonest.fr/evenements/lecole-saint-martin-fete-ses-120-an
 s/
SUMMARY:L'école Saint Martin fête ses 120 ans !
DESCRIPTION:Samedi 1er juin\, à partir de 10h : Fête d'été de l'école 
 Saint Martin
ATTACH;FMTTYPE=image/jpeg:https://www.limonest.fr/app/uploads/2024/05/ente
 te-st-martin.png
CATEGORIES:Evènement associatif
END:VEVENT
BEGIN:VTIMEZONE
TZID:Europe/Paris
X-LIC-LOCATION:Europe/Paris
BEGIN:DAYLIGHT
DTSTART:20240331T030000
TZOFFSETFROM:+0100
TZOFFSETTO:+0200
TZNAME:CEST
END:DAYLIGHT
END:VTIMEZONE
END:VCALENDAR