BEGIN:VCALENDAR
VERSION:2.0
PRODID:-//wp-events-plugin.com//7.1.7//EN
TZID:Europe/Paris
X-WR-TIMEZONE:Europe/Paris
BEGIN:VEVENT
UID:0-492@limonest.fr
DTSTART;TZID=Europe/Paris:20240917T200000
DTEND;TZID=Europe/Paris:20240917T223000
DTSTAMP:20240829T071842Z
URL:https://www.limonest.fr/evenements/lancement-de-la-saison-culturelle/
SUMMARY:Lancement de la saison culturelle
DESCRIPTION:Envie de savoir ce qui vous attend pour la saison culturelle 24
 -25 ?\nLe programme sera dévoilé mardi 17 septembre à l’Agora\nEt pou
 r prolonger la soirée\, vous assisterez à une soirée café-théâtre «
 &nbsp\;Un grand cri d’amour&nbsp\;» où la bonne humeur et le rire sero
 nt au rendez-vous&nbsp\;!\nSoirée gratuite\, sur inscription en ligne à 
 partir du 29 août 2024
CATEGORIES:Saison culturelle
END:VEVENT
BEGIN:VTIMEZONE
TZID:Europe/Paris
X-LIC-LOCATION:Europe/Paris
BEGIN:DAYLIGHT
DTSTART:20240331T030000
TZOFFSETFROM:+0100
TZOFFSETTO:+0200
TZNAME:CEST
END:DAYLIGHT
END:VTIMEZONE
END:VCALENDAR