BEGIN:VCALENDAR
VERSION:2.0
PRODID:-//wp-events-plugin.com//7.1.7//EN
TZID:Europe/Paris
X-WR-TIMEZONE:Europe/Paris
BEGIN:VEVENT
UID:0-475@limonest.fr
DTSTART;TZID=Europe/Paris:20240614T000000
DTEND;TZID=Europe/Paris:20240614T000000
DTSTAMP:20240516T083753Z
URL:https://www.limonest.fr/evenements/la-musique-de-lair-en-concert/
SUMMARY:La Musique de l'Air en concert !
DESCRIPTION:Dans le cadre des 90 ans de l'Armée et l'Air et de l'Espace\, 
 la Base aérienne 942 Lyon Mont-Verdun vous invite au concert de la Musiqu
 e de l'Air et de l'Espace. Cet événement est réalisé au profit des Ble
 ssés de Guerre de l'Armée de l'Air et de l’Espace et des familles (FOS
 A).\nVENDREDI 14 JUIN 2024 - 19:00 AUDITORIUM DE L'AGORA\nGRATUIT SUR INSC
 RIPTION OBLIGATOIRE
ATTACH;FMTTYPE=image/jpeg:https://www.limonest.fr/app/uploads/2024/05/VISU
 EL-MUSIQUE-AIR.png
END:VEVENT
BEGIN:VTIMEZONE
TZID:Europe/Paris
X-LIC-LOCATION:Europe/Paris
BEGIN:DAYLIGHT
DTSTART:20240331T030000
TZOFFSETFROM:+0100
TZOFFSETTO:+0200
TZNAME:CEST
END:DAYLIGHT
END:VTIMEZONE
END:VCALENDAR