BEGIN:VCALENDAR
VERSION:2.0
PRODID:-//wp-events-plugin.com//7.1.7//EN
TZID:Europe/Paris
X-WR-TIMEZONE:Europe/Paris
BEGIN:VEVENT
UID:0-502@limonest.fr
DTSTART;TZID=Europe/Paris:20241012T090000
DTEND;TZID=Europe/Paris:20241012T160000
DTSTAMP:20240927T100822Z
URL:https://www.limonest.fr/evenements/journee-portes-ouvertes-12-octobre/
SUMMARY:Journée Portes ouvertes | 12 octobre
DESCRIPTION:Samedi 12 octobre\, JOURNÉE PORTES-OUVERTES spéciale LYCÉE 
 à l’Institut Sandar-La Salle\nVenez découvrir à cette occasion ses fo
 rmations :\nBAC GÉNÉRAL – spécialités Maths\, Physique-Chimie et Bi
 ologie-écologie\nBAC TECHNOLOGIQUE STAV – spécialité Gestion des Espa
 ces\nBAC PRO CGEH - Conduite et gestion d’une entreprise hippique\nAutre
 s Nouveautés pour la rentrée prochaine :2 nouvelles formations sont dé
 sormais disponibles au sein de l’établissement- Certification Professio
 nnelle – Animateur d’équitation- BAC PRO CGEA- spécialité Grandes C
 ultures\nRendez-vous le 12/10 de 9h00 à 16h00 à l’Institut Sandar-La S
 alle392 Chemin de la Sablière – LIMONEST
LOCATION:Institut SANDAR\, France
X-APPLE-STRUCTURED-LOCATION;VALUE=URI;X-ADDRESS=Institut SANDAR\, France;X-
 APPLE-RADIUS=100;X-TITLE=:geo:0,0
END:VEVENT
BEGIN:VTIMEZONE
TZID:Europe/Paris
X-LIC-LOCATION:Europe/Paris
BEGIN:DAYLIGHT
DTSTART:20240331T030000
TZOFFSETFROM:+0100
TZOFFSETTO:+0200
TZNAME:CEST
END:DAYLIGHT
END:VTIMEZONE
END:VCALENDAR