BEGIN:VCALENDAR
VERSION:2.0
PRODID:-//wp-events-plugin.com//7.1.7//EN
TZID:Europe/Paris
X-WR-TIMEZONE:Europe/Paris
BEGIN:VEVENT
UID:0-506@limonest.fr
DTSTART;TZID=Europe/Paris:20241013T100000
DTEND;TZID=Europe/Paris:20241013T150000
DTSTAMP:20241003T092641Z
URL:https://www.limonest.fr/evenements/journee-octobre-rose-association-bm
 x-vtt-limonest/
SUMMARY:Journée Octobre Rose - Association BMX VTT Limonest
DESCRIPTION:Dans le cadre d'octobre rose\, l'association BMX VTT Limonest o
 rganise une journée d'initiation au BMX Race : \n🎀🎀 OCTOBRE ROSE 
 🎀🎀🌸🌸Nous sommes heureux de vous annoncer la 2ème édition de 
 la journée OCTOBRE ROSE AU BMX VTT LIMONEST!! 🌸🌸Le dimanche 13 octo
 bre 2024 à partir de 10h ! \nCette année\, le Club a choisi de soutenir 
 deux associations :\nL'association Les gaz'elles de Larros\nL'association 
 Les Etoiles FilantesAu programme de cette belle journée :\nde 10h à 12h 
 : initiation ou perfectionnement à la pratique du BMX avec les précieux 
 conseils de la pilote nationale Nolwenn GRAJEWSKI (participation gratuite 
 avec don libre 100% reversé aux deux associations)\nà partir de 12h : mo
 ment agréable et convivial autour d'un repas\, ouvert à tous (10€ pour
  les 12 ans et plus / 5€ pour les moins de 12 ans) possibilité pour les
  accompagnateurs de procéder à un don libre égalementCette journée est
  ouverte à toutes\, alors n'hésitez pas à vous inscrire et à en parler
  autour de vous 🙏Afin de conserver un beau souvenir de cette journée e
 t de soutenir ces associations\, n'oubliez pas de revêtir votre plus beau
  tee-shirt rose 🤩\nS'inscrire à leur événement
CATEGORIES:Evènement associatif
END:VEVENT
BEGIN:VTIMEZONE
TZID:Europe/Paris
X-LIC-LOCATION:Europe/Paris
BEGIN:DAYLIGHT
DTSTART:20240331T030000
TZOFFSETFROM:+0100
TZOFFSETTO:+0200
TZNAME:CEST
END:DAYLIGHT
END:VTIMEZONE
END:VCALENDAR