BEGIN:VCALENDAR
VERSION:2.0
PRODID:-//wp-events-plugin.com//7.1.7//EN
TZID:Europe/Paris
X-WR-TIMEZONE:Europe/Paris
BEGIN:VEVENT
UID:0-481@limonest.fr
DTSTART;TZID=Europe/Paris:20240608T090000
DTEND;TZID=Europe/Paris:20240608T130000
DTSTAMP:20240603T162605Z
URL:https://www.limonest.fr/evenements/inaugurations-8-06-24/
SUMMARY:Inauguration Programme 1% Paysage
DESCRIPTION:𝐄𝐕𝐄𝐍𝐄𝐌𝐄𝐍𝐓 - 𝐈𝐍𝐀𝐔𝐆𝐔
 𝐑𝐀𝐓𝐈𝐎𝐍𝐒\n📍 Rendez-vous sous le viaduc de l'A89 au 
 sentier du Sémanet (accès par la route du Bois d'Ars) à 9h pour inaugur
 er sa réhabilitation (en collaboration avec Lissieu et Dardilly)\, puis r
 ejoignez-nous à 10h30 à la Batterie des Carrières de Limonest\, vérita
 ble joyau historique ayant terminé la majorité de ses rénovations.
ATTACH;FMTTYPE=image/jpeg:https://www.limonest.fr/app/uploads/2024/05/form
 at-actualites-site-web-64.png
END:VEVENT
BEGIN:VTIMEZONE
TZID:Europe/Paris
X-LIC-LOCATION:Europe/Paris
BEGIN:DAYLIGHT
DTSTART:20240331T030000
TZOFFSETFROM:+0100
TZOFFSETTO:+0200
TZNAME:CEST
END:DAYLIGHT
END:VTIMEZONE
END:VCALENDAR