BEGIN:VCALENDAR
VERSION:2.0
PRODID:-//wp-events-plugin.com//7.1.7//EN
TZID:Europe/Paris
X-WR-TIMEZONE:Europe/Paris
BEGIN:VEVENT
UID:0-510@limonest.fr
DTSTART;TZID=Europe/Paris:20241031T180000
DTEND;TZID=Europe/Paris:20241031T193000
DTSTAMP:20241021T082331Z
URL:https://www.limonest.fr/evenements/halloween-a-limonest/
SUMMARY:Halloween à Limonest
DESCRIPTION:Le comité des fêtes organise une chasse aux bonbons sur la pl
 ace du griffon ce jeudi 31 octobre ! \n🎃 Rendez-vous à 18h00 ! 🎃\nS
 i vous habitez un manoir hanté dans le centre bourg et que vous souhaitez
  partager vos bonbons avec des petits monstres\, sorciers\, fantômes en t
 out genre\, n’hésitez pas à nous laisser vos coordonnées par SMS : 06
 25931297 ou par email : comitedesfetesdelimonest@gmail.com
ATTACH;FMTTYPE=image/jpeg:https://www.limonest.fr/app/uploads/2024/10/Affi
 che-Halloween-2024.jpg
CATEGORIES:Evènement associatif
LOCATION:Place du Griffon\, France
X-APPLE-STRUCTURED-LOCATION;VALUE=URI;X-ADDRESS=Place du Griffon\, France;X
 -APPLE-RADIUS=100;X-TITLE=:geo:0,0
END:VEVENT
BEGIN:VTIMEZONE
TZID:Europe/Paris
X-LIC-LOCATION:Europe/Paris
BEGIN:STANDARD
DTSTART:20241027T020000
TZOFFSETFROM:+0200
TZOFFSETTO:+0100
TZNAME:CET
END:STANDARD
END:VTIMEZONE
END:VCALENDAR