BEGIN:VCALENDAR
VERSION:2.0
PRODID:-//wp-events-plugin.com//7.1.7//EN
TZID:Europe/Paris
X-WR-TIMEZONE:Europe/Paris
BEGIN:VEVENT
UID:0-490@limonest.fr
DTSTART;TZID=Europe/Paris:20240907T093000
DTEND;TZID=Europe/Paris:20240907T130000
DTSTAMP:20240823T091225Z
URL:https://www.limonest.fr/evenements/forum-des-associations/
SUMMARY:Forum des associations
DESCRIPTION:Venez découvrir le dynamisme des associations limonoises lors 
 du Forum des Associations\, samedi 7 septembre 2024 de 9h30 à 13h à l’
 Agora\, pôle culturel de Limonest.\nLes bénévoles sont à votre disposi
 tion pour vous renseigner sur les activités de loisirs\, sportives\, cult
 urelles ou autres.\nLancez-vous dans une nouvelle activité ou\, pourquoi 
 pas\, vous engager dans la vie associative !
END:VEVENT
BEGIN:VTIMEZONE
TZID:Europe/Paris
X-LIC-LOCATION:Europe/Paris
BEGIN:DAYLIGHT
DTSTART:20240331T030000
TZOFFSETFROM:+0100
TZOFFSETTO:+0200
TZNAME:CEST
END:DAYLIGHT
END:VTIMEZONE
END:VCALENDAR