BEGIN:VCALENDAR
VERSION:2.0
PRODID:-//wp-events-plugin.com//7.1.7//EN
TZID:Europe/Paris
X-WR-TIMEZONE:Europe/Paris
BEGIN:VEVENT
UID:0-486@limonest.fr
DTSTART;TZID=Europe/Paris:20240713T190000
DTEND;TZID=Europe/Paris:20240713T233000
DTSTAMP:20240703T085859Z
URL:https://www.limonest.fr/evenements/fete-nationale/
SUMMARY:Fête nationale
DESCRIPTION:Nous aurons le plaisir de recevoir le groupe "What the Funk" !\
 nVenez danser et chanter sur des airs de Bruno Mars\, Stevie Wonder...\nDe
 s good vibes et de la bonne humeur !
ATTACH;FMTTYPE=image/jpeg:https://www.limonest.fr/app/uploads/2024/07/mont
 age-photo-feu-2022.png
END:VEVENT
BEGIN:VTIMEZONE
TZID:Europe/Paris
X-LIC-LOCATION:Europe/Paris
BEGIN:DAYLIGHT
DTSTART:20240331T030000
TZOFFSETFROM:+0100
TZOFFSETTO:+0200
TZNAME:CEST
END:DAYLIGHT
END:VTIMEZONE
END:VCALENDAR