BEGIN:VCALENDAR
VERSION:2.0
PRODID:-//wp-events-plugin.com//7.1.7//EN
TZID:Europe/Paris
X-WR-TIMEZONE:Europe/Paris
BEGIN:VEVENT
UID:0-485@limonest.fr
DTSTART;TZID=Europe/Paris:20240621T190000
DTEND;TZID=Europe/Paris:20240621T233000
DTSTAMP:20240620T105931Z
URL:https://www.limonest.fr/evenements/fete-de-la-musique/
SUMMARY:Fête de la musique
DESCRIPTION:INFO TRAFIC\nLe centre bourg sera fermé à la circulation de 1
 9h à 21h
ATTACH;FMTTYPE=image/jpeg:https://www.limonest.fr/app/uploads/2024/06/ente
 te-FETE-DE-LA-MUSIQUE2.png
END:VEVENT
BEGIN:VTIMEZONE
TZID:Europe/Paris
X-LIC-LOCATION:Europe/Paris
BEGIN:DAYLIGHT
DTSTART:20240331T030000
TZOFFSETFROM:+0100
TZOFFSETTO:+0200
TZNAME:CEST
END:DAYLIGHT
END:VTIMEZONE
END:VCALENDAR