BEGIN:VCALENDAR
VERSION:2.0
PRODID:-//wp-events-plugin.com//7.1.7//EN
TZID:Europe/Paris
X-WR-TIMEZONE:Europe/Paris
BEGIN:VEVENT
UID:0-495@limonest.fr
DTSTART;TZID=Europe/Paris;VALUE=DATE:20240913
DTEND;TZID=Europe/Paris;VALUE=DATE:20240916
DTSTAMP:20240911T134801Z
URL:https://www.limonest.fr/evenements/course-de-cote-98eme-edition/
SUMMARY:Course de côte - 98ème Edition
DESCRIPTION:La 98e Course de Côte Limonest-Mont Verdun aura lieu le week-e
 nd du 13 au 15 septembre 2024. Événement organisé par l'ASA du Rhône\,
  retrouvez toutes les informations de l'évènement sur leur site : https:
 //asarhone.com/nos-epreuves/course-de-cote-de-limonest-mont-verdun/  \nRet
 rouvez notre article "Info Trafic" juste ici : https://www.limonest.fr/act
 ualite/course-de-cote-automobiles-les-13-14-et-15-septembre/
CATEGORIES:Evènement associatif
END:VEVENT
BEGIN:VTIMEZONE
TZID:Europe/Paris
X-LIC-LOCATION:Europe/Paris
BEGIN:DAYLIGHT
DTSTART:20240331T030000
TZOFFSETFROM:+0100
TZOFFSETTO:+0200
TZNAME:CEST
END:DAYLIGHT
END:VTIMEZONE
END:VCALENDAR