BEGIN:VCALENDAR
VERSION:2.0
PRODID:-//wp-events-plugin.com//7.1.7//EN
TZID:Europe/Paris
X-WR-TIMEZONE:Europe/Paris
BEGIN:VEVENT
UID:0-741@limonest.fr
DTSTART;TZID=Europe/Paris:20260423T190000
DTEND;TZID=Europe/Paris:20260423T210000
DTSTAMP:20260420T164025Z
URL:https://www.limonest.fr/evenements/conseil-municipal/
SUMMARY:Conseil Municipal
DESCRIPTION:Le Conseil Municipal de Limonest se réunira ce jeudi 23 avril 
 2026\, à 19h00 en Salle du Conseil.\n❌Celui-ci ne sera pas retransmis e
 n direct sur notre page facebook.\n✅Cette séance est ouverte au public.
  Pour y assister\, rendez-vous en salle du conseil\, à partir de 19h00.
ATTACH;FMTTYPE=image/jpeg:https://www.limonest.fr/app/uploads/1/2026/04/Si
 te-internet-_-Panneaux-Lumineux.png
CATEGORIES:Evènement municipal
LOCATION:Hôtel de Ville\, 225 avenue Général de Gaulle 69760 Limonest\, 
 France
X-APPLE-STRUCTURED-LOCATION;VALUE=URI;X-ADDRESS=225 avenue Général de Gau
 lle 69760 Limonest\, France;X-APPLE-RADIUS=100;X-TITLE=Hôtel de Ville:geo
 :0,0
END:VEVENT
BEGIN:VTIMEZONE
TZID:Europe/Paris
X-LIC-LOCATION:Europe/Paris
BEGIN:DAYLIGHT
DTSTART:20260329T030000
TZOFFSETFROM:+0100
TZOFFSETTO:+0200
TZNAME:CEST
END:DAYLIGHT
END:VTIMEZONE
END:VCALENDAR