BEGIN:VCALENDAR
VERSION:2.0
PRODID:-//wp-events-plugin.com//7.1.7//EN
TZID:Europe/Paris
X-WR-TIMEZONE:Europe/Paris
BEGIN:VEVENT
UID:0-503@limonest.fr
DTSTART;TZID=Europe/Paris:20241015T190000
DTEND;TZID=Europe/Paris:20241015T190000
DTSTAMP:20240930T095807Z
URL:https://www.limonest.fr/evenements/conference-je-tu-nous-nous-respecto
 ns/
SUMMARY:Conférence  - "je\, tu\, nous nous respectons"
DESCRIPTION:Animée par Aïcha RIFFI\, formatrice pour l’association Ma f
 amille comme unique.\nParticipez à une conférence interactive autour de 
 la communication coopérative pour mieux comprendre et accompagner l’ado
 lescence\, période souvent marquée par des tensions et des incompréhens
 ions. Grâce à des outils concrets\, apprenez à naviguer entre respect m
 utuel et affirmation de soi\, en favorisant un dialogue bienveillant entre
  parents et adolescents. Explorez comment ajuster vos limites tout en main
 tenant un lien fort et respectueux.\nEn présentiel à la Mairie de Saint-
 Didier au Mont d'Or (Salle du conseil) et en ligne !\nRéservation Obligat
 oire (Gratuit) : https://billetterie-saintdidieraumontdor.mapado.com/event
 /436469-conference-je-tu-nous-nous-respectons
ATTACH;FMTTYPE=image/jpeg:https://www.limonest.fr/app/uploads/2024/09/imag
 e.png
CATEGORIES:Evènement associatif
LOCATION:Mairie de Saint Didier au Mont d'Or et en ligne\, France
X-APPLE-STRUCTURED-LOCATION;VALUE=URI;X-ADDRESS=Mairie de Saint Didier au M
 ont d'Or et en ligne\, France;X-APPLE-RADIUS=100;X-TITLE=:geo:0,0
END:VEVENT
BEGIN:VTIMEZONE
TZID:Europe/Paris
X-LIC-LOCATION:Europe/Paris
BEGIN:DAYLIGHT
DTSTART:20240331T030000
TZOFFSETFROM:+0100
TZOFFSETTO:+0200
TZNAME:CEST
END:DAYLIGHT
END:VTIMEZONE
END:VCALENDAR