BEGIN:VCALENDAR
VERSION:2.0
PRODID:-//wp-events-plugin.com//7.1.7//EN
TZID:Europe/Paris
X-WR-TIMEZONE:Europe/Paris
BEGIN:VEVENT
UID:0-491@limonest.fr
DTSTART;TZID=Europe/Paris:20240830T193000
DTEND;TZID=Europe/Paris:20240830T203000
DTSTAMP:20240823T091139Z
URL:https://www.limonest.fr/evenements/concert-dete/
SUMMARY:Concert d'été
DESCRIPTION:Le Brass Band des Gones en live
ATTACH;FMTTYPE=image/jpeg:https://www.limonest.fr/app/uploads/2024/07/Phot
 o-1-scaled.jpg
END:VEVENT
BEGIN:VTIMEZONE
TZID:Europe/Paris
X-LIC-LOCATION:Europe/Paris
BEGIN:DAYLIGHT
DTSTART:20240331T030000
TZOFFSETFROM:+0100
TZOFFSETTO:+0200
TZNAME:CEST
END:DAYLIGHT
END:VTIMEZONE
END:VCALENDAR