BEGIN:VCALENDAR
VERSION:2.0
PRODID:-//wp-events-plugin.com//7.1.7//EN
TZID:Europe/Paris
X-WR-TIMEZONE:Europe/Paris
BEGIN:VEVENT
UID:0-476@limonest.fr
DTSTART;TZID=Europe/Paris:20240608T193000
DTEND;TZID=Europe/Paris:20240608T210000
DTSTAMP:20240521T114138Z
URL:https://www.limonest.fr/evenements/concert-dessine-lyon-bd-festival/
SUMMARY:Concert dessiné | Lyon BD Festival
DESCRIPTION:
ATTACH;FMTTYPE=image/jpeg:https://www.limonest.fr/app/uploads/2024/05/phot
 o-Harmonie-scaled.jpg
END:VEVENT
BEGIN:VTIMEZONE
TZID:Europe/Paris
X-LIC-LOCATION:Europe/Paris
BEGIN:DAYLIGHT
DTSTART:20240331T030000
TZOFFSETFROM:+0100
TZOFFSETTO:+0200
TZNAME:CEST
END:DAYLIGHT
END:VTIMEZONE
END:VCALENDAR