BEGIN:VCALENDAR
VERSION:2.0
PRODID:-//wp-events-plugin.com//7.1.7//EN
TZID:Europe/Paris
X-WR-TIMEZONE:Europe/Paris
BEGIN:VEVENT
UID:0-489@limonest.fr
DTSTART;TZID=Europe/Paris:20240705T200000
DTEND;TZID=Europe/Paris:20240705T220000
DTSTAMP:20240702T131650Z
URL:https://www.limonest.fr/evenements/concert-de-juillet-2/
SUMMARY:Concert du 5 Juillet
DESCRIPTION:
ATTACH;FMTTYPE=image/jpeg:https://www.limonest.fr/app/uploads/2024/07/Visu
 el-pour-les-2-evenements-JUILLET_Page_2.jpg
END:VEVENT
BEGIN:VTIMEZONE
TZID:Europe/Paris
X-LIC-LOCATION:Europe/Paris
BEGIN:DAYLIGHT
DTSTART:20240331T030000
TZOFFSETFROM:+0100
TZOFFSETTO:+0200
TZNAME:CEST
END:DAYLIGHT
END:VTIMEZONE
END:VCALENDAR