BEGIN:VCALENDAR
VERSION:2.0
PRODID:-//wp-events-plugin.com//7.1.7//EN
TZID:Europe/Paris
X-WR-TIMEZONE:Europe/Paris
BEGIN:VEVENT
UID:0-509@limonest.fr
DTSTART;TZID=Europe/Paris:20241108T200000
DTEND;TZID=Europe/Paris:20241108T213000
DTSTAMP:20241021T081354Z
URL:https://www.limonest.fr/evenements/banc-de-sable/
SUMMARY:Banc de sable
DESCRIPTION:Tant qu’il y aura des bancs de sable où trouver refuge\, tou
 tes les chimères seront encore possibles. Ils vont de pair.\nElle\, porte
  le sacré comme un tee-shirt usé\, sous ses airs de princesse elle a l
 ’étoffe d’un chef et les désirs d’une reine.Lui\, cache sous sa ma
 ladresse une grâce insoupçonnée.Il est un compagnon rêveur et malicieu
 x qui d’un battement de paupières croit pouvoir s’envoler.Il porte\, 
 elle voltige\, elle chute\, il rattrape\, ils sont l’un pour l’autre l
 ’appui nécessaire.Ils chassent les mouches comme d’autres les moulins
  à vent.Complices inséparables\, leurs jeux naïfs les emmènent sur des
  terrains glissants où leur nature se révèle plus que jamais…Clown…
 jusqu’au bout des ongles.\nhttps://www.youtube.com/watch?v=APkQn3NK_1I\n
 Teaser Spectacle Banc de Sable
ATTACH;FMTTYPE=image/jpeg:https://www.limonest.fr/app/uploads/2024/10/0004
 _Cie-126-Kilos-Banc-de-Sable-©Kalimba-04.jpg
CATEGORIES:Evènement municipal
END:VEVENT
BEGIN:VTIMEZONE
TZID:Europe/Paris
X-LIC-LOCATION:Europe/Paris
BEGIN:STANDARD
DTSTART:20241027T020000
TZOFFSETFROM:+0200
TZOFFSETTO:+0100
TZNAME:CET
END:STANDARD
END:VTIMEZONE
END:VCALENDAR