BEGIN:VCALENDAR
VERSION:2.0
PRODID:-//wp-events-plugin.com//7.1.7//EN
TZID:Europe/Paris
X-WR-TIMEZONE:Europe/Paris
BEGIN:VEVENT
UID:0-507@limonest.fr
DTSTART;TZID=Europe/Paris:20241024T190000
DTEND;TZID=Europe/Paris:20241024T203000
DTSTAMP:20241014T091133Z
URL:https://www.limonest.fr/evenements/ateliers-gestes-qui-sauvent/
SUMMARY:Ateliers gestes qui sauvent !
DESCRIPTION:‍🥼Jeudi 24 octobre - 19h\, en Mairie 🩺\nAtelier sur les
  gestes qui sauvent\, animé par le Docteur Lopez !\nGratuit\, sur inscrip
 tion au 06.07.79.16.44 (12 - 15 places)
END:VEVENT
BEGIN:VTIMEZONE
TZID:Europe/Paris
X-LIC-LOCATION:Europe/Paris
BEGIN:DAYLIGHT
DTSTART:20240331T030000
TZOFFSETFROM:+0100
TZOFFSETTO:+0200
TZNAME:CEST
END:DAYLIGHT
END:VTIMEZONE
END:VCALENDAR