BEGIN:VCALENDAR
VERSION:2.0
PRODID:-//wp-events-plugin.com//7.1.7//EN
TZID:Europe/Paris
X-WR-TIMEZONE:Europe/Paris
BEGIN:VEVENT
UID:0-483@limonest.fr
DTSTART;TZID=Europe/Paris:20240612T100000
DTEND;TZID=Europe/Paris:20240612T164500
DTSTAMP:20240610T090619Z
URL:https://www.limonest.fr/evenements/4-evenements-le-12-juin/
SUMMARY:4 évènements le 12 juin
DESCRIPTION:Le Conservatoire fait le plein de représentations !
ATTACH;FMTTYPE=image/jpeg:https://www.limonest.fr/app/uploads/2023/11/Logo
 _Conservatoire-rvb-v2-1024x624-1.jpg
END:VEVENT
BEGIN:VTIMEZONE
TZID:Europe/Paris
X-LIC-LOCATION:Europe/Paris
BEGIN:DAYLIGHT
DTSTART:20240331T030000
TZOFFSETFROM:+0100
TZOFFSETTO:+0200
TZNAME:CEST
END:DAYLIGHT
END:VTIMEZONE
END:VCALENDAR