BEGIN:VCALENDAR
VERSION:2.0
PRODID:-//wp-events-plugin.com//7.1.7//EN
TZID:Europe/Paris
X-WR-TIMEZONE:Europe/Paris
BEGIN:VEVENT
UID:0-477@limonest.fr
DTSTART;TZID=Europe/Paris:20240619T100000
DTEND;TZID=Europe/Paris:20240619T223000
DTSTAMP:20240521T115037Z
URL:https://www.limonest.fr/evenements/3eme-marathon-du-conservatoire/
SUMMARY:3ème Marathon du Conservatoire
DESCRIPTION:Entrée libre\, dans la limite des places disponibles
ATTACH;FMTTYPE=image/jpeg:https://www.limonest.fr/app/uploads/2024/05/4201
 85210_857289786203899_3439526667328797626_n.jpg
END:VEVENT
BEGIN:VTIMEZONE
TZID:Europe/Paris
X-LIC-LOCATION:Europe/Paris
BEGIN:DAYLIGHT
DTSTART:20240331T030000
TZOFFSETFROM:+0100
TZOFFSETTO:+0200
TZNAME:CEST
END:DAYLIGHT
END:VTIMEZONE
END:VCALENDAR